BEGIN:VCALENDAR
VERSION:2.0
PRODID:-//ChamberMaster//Event Calendar 2.0//EN
METHOD:PUBLISH
X-PUBLISHED-TTL:P3D
REFRESH-INTERVAL:P3D
CALSCALE:GREGORIAN
BEGIN:VEVENT
DTSTART:20171018T140000Z
DTEND:20171018T190000Z
X-MICROSOFT-CDO-ALLDAYEVENT:FALSE
SUMMARY:Board of Directors Conference Call - October 18\, 2017
DESCRIPTION:The Board of Directors will hold a conference call to discuss a few items before our in person meeting at the Fall Workshop.  Please schedule time to call in and participate.  We will be reviewing items for the upcoming year.
X-ALT-DESC;FMTTYPE=text/html:<span style="font-size:14px\;"><span style="font-family:tahoma\;">The Board of Directors will hold a conference call to discuss a few items before our in person meeting at the Fall Workshop. &nbsp\;Please schedule time to call in and participate. &nbsp\;We will be reviewing items for the upcoming year.</span></span>
LOCATION:Conference Call
UID:e.9366.91
SEQUENCE:3
DTSTAMP:20260420T105903Z
URL:http://crmcanc.memberzone.com/events/details/board-of-directors-conference-call-october-18-2017-91
END:VEVENT

END:VCALENDAR
