BEGIN:VCALENDAR
VERSION:2.0
PRODID:-//ChamberMaster//Event Calendar 2.0//EN
METHOD:PUBLISH
X-PUBLISHED-TTL:P3D
REFRESH-INTERVAL:P3D
CALSCALE:GREGORIAN
BEGIN:VEVENT
DTSTART:20161012T134500Z
DTEND:20161012T173000Z
X-MICROSOFT-CDO-ALLDAYEVENT:FALSE
SUMMARY:Concrete Pavement Designs and Concrete Plant Operations
DESCRIPTION:LIMITED ENROLLMENT  DON'T DELAY\n\n3 PDHs & Lunch for $45.00\n\nWhat: An informative technical seminar on Designing Concrete Pavements and Concrete Plant Operations.  This seminar provides 3 PDHs and includes "concrete" information on  both making your life easier as a practitioner as well as better serving your client.\n\nWhen: October 12\, 2016\n\nWhere: 5312 Holly Shelter Road\, Castle Hayne\, NC  28429\n\nFees: Seminar and Lunch: $45.00/non CRMCA members - $35.00/CRMCA member\n\nRegistration: Enrollment is limited and is on a first come first serve basis. Register online by clicking "Register" above or via telephone   Fees may be paid by check via USPS or credit card (online or over the phone).  To register or pay via telephone\, contact Cindy Chambers at (704) 717-9199.   For additional information contact Eric N. Johnson at johnson@crmca.com or (704)717-9199.\n\nTopics Include: \n\n\n	Design and Construction of Concrete Parking Lots - presented by Eric N. Johnson\, P.E.\, Director of Technical Services\, Carolinas Ready Mixed Concrete Association\n	Review of Concrete Roadway Pavement Functions and Concepts of Pavement Design\, presented by Andy Johnson\, PhD\, P.E.\, Pavement Design Engineer\, Southeast Cement Promotion Association \n	Concrete Plant Operations and Quality Control\, presented by Shawn Baker\, Division Manager\, & Gordon Singletary\, Special Projects -S & W Ready Mixed Concrete Company LLC\n\n\nPresenters:  Your presenters bring many decades of engineering experience with concrete.  They bring a wide range of professional experience including State level DOTs\, a Ready Mixed Concrete Producer\, private consulting engineering practice and trade associations.
X-ALT-DESC;FMTTYPE=text/html:<p style="margin: 15px 0px 0px\; padding: 0px\; border: 0px\; font-size: 11.0011px\; font-family: Verdana\, Geneva\, sans-serif\; line-height: 16.5016px\; color: rgb(36\, 36\, 36)\; text-align: center\; background-color: rgb(255\, 255\, 255)\;"><span style="margin: 0px\; padding: 0px\; border: 0px\; font-weight: inherit\; font-style: inherit\; font-size: 16px\; font-family: inherit\; line-height: 1.5em\;"><em style="margin: 0px\; padding: 0px\; border: 0px\; font-weight: inherit\; font-family: inherit\; line-height: 1.5em\;"><span style="margin: 0px\; padding: 0px\; border: 0px\; font-weight: inherit\; font-style: inherit\; font-family: inherit\; line-height: 1.5em\; color: rgb(255\, 0\, 0)\;"><strong>LIMITED ENROLLMENT&ndash\; DON&rsquo\;T DELAY<br />\n3 PDHs &amp\; Lunch for $45.00</strong></span></em></span></p>\n\n<p style="margin: 15px 0px 0px\; padding: 0px\; border: 0px\; font-size: 11.0011px\; font-family: Verdana\, Geneva\, sans-serif\; line-height: 16.5016px\; color: rgb(36\, 36\, 36)\; background-color: rgb(255\, 255\, 255)\;"><em style="margin: 0px\; padding: 0px\; border: 0px\; font-weight: inherit\; font-size: 11.0011px\; font-family: inherit\; line-height: 1.5em\;"><strong>What</strong></em><strong>:</strong>&nbsp\;An informative technical seminar on Designing&nbsp\;<strong>Concrete Pavements and Concrete Plant Operations</strong>. &nbsp\;This seminar provides 3<strong>&nbsp\;PDHs&nbsp\;</strong>and&nbsp\;includes &quot\;concrete&quot\; information on&nbsp\; both making your life easier as a practitioner as well as better serving your client.</p>\n\n<p style="margin: 15px 0px 0px\; padding: 0px\; border: 0px\; font-size: 11.0011px\; font-family: Verdana\, Geneva\, sans-serif\; line-height: 16.5016px\; color: rgb(36\, 36\, 36)\; background-color: rgb(255\, 255\, 255)\;"><em style="margin: 0px\; padding: 0px\; border: 0px\; font-weight: inherit\; font-size: 11.0011px\; font-family: inherit\; line-height: 1.5em\;"><strong>When</strong></em>:&nbsp\;October 12\, 2016</p>\n\n<p style="margin: 15px 0px 0px\; padding: 0px\; border: 0px\; font-size: 11.0011px\; font-family: Verdana\, Geneva\, sans-serif\; line-height: 16.5016px\; color: rgb(36\, 36\, 36)\; background-color: rgb(255\, 255\, 255)\;"><em style="margin: 0px\; padding: 0px\; border: 0px\; font-weight: inherit\; font-size: 11.0011px\; font-family: inherit\; line-height: 1.5em\;"><strong>Where</strong></em>: 5312 Holly Shelter Road\, Castle Hayne\, NC &nbsp\;28429</p>\n\n<p style="margin: 15px 0px 0px\; padding: 0px\; border: 0px\; font-size: 11.0011px\; font-family: Verdana\, Geneva\, sans-serif\; line-height: 16.5016px\; color: rgb(36\, 36\, 36)\; background-color: rgb(255\, 255\, 255)\;"><em style="margin: 0px\; padding: 0px\; border: 0px\; font-weight: inherit\; font-size: 11.0011px\; font-family: inherit\; line-height: 1.5em\;"><strong>Fees</strong>:</em>&nbsp\;Seminar and Lunch: $45.00/non CRMCA members - $35.00/CRMCA member</p>\n\n<p style="margin: 15px 0px 0px\; padding: 0px\; border: 0px\; font-size: 11.0011px\; font-family: Verdana\, Geneva\, sans-serif\; line-height: 16.5016px\; color: rgb(36\, 36\, 36)\; background-color: rgb(255\, 255\, 255)\;"><em style="margin: 0px\; padding: 0px\; border: 0px\; font-weight: inherit\; font-size: 11.0011px\; font-family: inherit\; line-height: 1.5em\;"><strong>Registration</strong></em>: Enrollment is limited and is on a first come first serve basis. Register online by clicking &quot\;Register&quot\; above&nbsp\;or via telephone&nbsp\;&nbsp\; Fees may be paid by check via&nbsp\;USPS&nbsp\;or credit card (online or over the phone).&nbsp\; To register or pay&nbsp\;via telephone\, contact Cindy Chambers&nbsp\;at (704) 717-9199.&nbsp\;&nbsp\;&nbsp\;For additional information contact Eric N. Johnson at johnson@crmca.com or (704)717-9199.</p>\n\n<p style="margin: 15px 0px 0px\; padding: 0px\; border: 0px\; font-size: 11.0011px\; font-family: Verdana\, Geneva\, sans-serif\; line-height: 16.5016px\; color: rgb(36\, 36\, 36)\; background-color: rgb(255\, 255\, 255)\;"><em style="margin: 0px\; padding: 0px\; border: 0px\; font-weight: inherit\; font-size: 11.0011px\; font-family: inherit\; line-height: 1.5em\;"><strong>Topics Include:</strong></em>&nbsp\;</p>\n\n<ul style="margin: 0px\; padding: 0px 0px 0px 40px\; border: 0px\; font-size: 11.0011px\; font-family: Verdana\, Geneva\, sans-serif\; line-height: 16.5016px\; color: rgb(36\, 36\, 36)\; background-color: rgb(255\, 255\, 255)\;">\n	<li style="margin: 0px\; padding: 0px\; border: 0px\; font-weight: inherit\; font-style: inherit\; font-size: 11.0011px\; font-family: inherit\; line-height: 1.5em\;"><strong><em style="margin: 0px\; padding: 0px\; border: 0px\; font-weight: inherit\; font-size: 11.0011px\; font-family: inherit\; line-height: 1.5em\;">Design and Construction&nbsp\;of Concrete Parking Lots&nbsp\;</em></strong>- presented by Eric N. Johnson\, P.E.\, Director of Technical Services\, Carolinas Ready Mixed Concrete Association</li>\n	<li style="margin: 0px\; padding: 0px\; border: 0px\; font-weight: inherit\; font-style: inherit\; font-size: 11.0011px\; font-family: inherit\; line-height: 1.5em\;"><strong><em style="margin: 0px\; padding: 0px\; border: 0px\; font-weight: inherit\; font-size: 11.0011px\; font-family: inherit\; line-height: 1.5em\;">Review of Concrete Roadway Pavement Functions and Concepts of Pavement Design</em></strong>\, presented by Andy Johnson\, PhD\, P.E.\, Pavement Design Engineer\, Southeast Cement Promotion Association&nbsp\;</li>\n	<li style="margin: 0px\; padding: 0px\; border: 0px\; font-weight: inherit\; font-style: inherit\; font-size: 11.0011px\; font-family: inherit\; line-height: 1.5em\;"><strong><em style="margin: 0px\; padding: 0px\; border: 0px\; font-weight: inherit\; font-size: 11.0011px\; font-family: inherit\; line-height: 1.5em\;">Concrete Plant Operations and Quality Control</em></strong>\, presented by Shawn Baker\, Division Manager\, &amp\; Gordon Singletary\, Special Projects&nbsp\;-S &amp\; W Ready Mixed Concrete Company LLC</li>\n</ul>\n\n<p style="margin: 15px 0px 0px\; padding: 0px\; border: 0px\; font-size: 11.0011px\; font-family: Verdana\, Geneva\, sans-serif\; line-height: 16.5016px\; color: rgb(36\, 36\, 36)\; background-color: rgb(255\, 255\, 255)\;"><em style="margin: 0px\; padding: 0px\; border: 0px\; font-weight: inherit\; font-size: 11.0011px\; font-family: inherit\; line-height: 1.5em\;"><strong>Presenters</strong></em><strong>:&nbsp\;</strong>&nbsp\;Your presenters bring many decades of engineering experience with concrete.&nbsp\; They bring a wide range of professional experience including State level DOTs\, a Ready Mixed Concrete Producer\, private consulting engineering practice and trade associations.</p>\n
LOCATION:S & W Ready Mix Concrete Company 5312 Holly Shelter Road Castle Hayne\, North Carolina 28429 USA
UID:e.9366.7
SEQUENCE:3
DTSTAMP:20260421T074619Z
URL:http://crmcanc.memberzone.com/events/details/concrete-pavement-designs-and-concrete-plant-operations-10-12-2016-7
END:VEVENT

END:VCALENDAR
