BEGIN:VCALENDAR
VERSION:2.0
PRODID:-//ChamberMaster//Event Calendar 2.0//EN
METHOD:PUBLISH
X-PUBLISHED-TTL:P3D
REFRESH-INTERVAL:P3D
CALSCALE:GREGORIAN
BEGIN:VEVENT
DTSTART:20161101T143000Z
DTEND:20161102T160000Z
X-MICROSOFT-CDO-ALLDAYEVENT:FALSE
SUMMARY:CRMCA Fall Workshop
DESCRIPTION:Join us for industry specific education\, networking and 2 packed days in Concord\, NC.  This popular event averages 175+ attendees each year and consistently receives high ratings from attendees.  \n\n\n\nEducation Sessions have been released and details can be found on the website.  Topics this year include:\n\n\n\nKEYNOTE & GENERAL SESSIONS:\n\n\n\nCollaboration   the Key to Customer and Sales Success\n\nPresented by Keith Eades\, Sales Performance International\n\n \n\nOSHA's Knocking   Do you let them in?\n\nPresented by Travis Vance\, Fisher Phillips\, Of Counsel\n\n \n\nThe State of Our Industry: What Lies Ahead\n\nPresented by Pierre Villere\, Allen-Villere Partners\n\n\n\nFishing and Beers: How Your Favorite Companies Are a Threat to Your Concrete Plant and a Source of Lessons Learned\n\nPresented by Doug Ruhlin\, Resource Management Associates\n\n \n\nBREAKOUT SESSIONS:\n\n \n\nPreparing for 2017: ACA & EEOC Compliance and Updates\n\nPresented by Ed Bray\, Ascension Insurance\, Employee Benefits Strategy & Execution Leader /  SVP\, Compliance\n\n \n\nRev Up Your Social Media\n\nPresented by Courtney Rogers\, mRELEVANCE\n\n \n\nStaying ahead of the Driver/Mechanic Shortage Curve
X-ALT-DESC;FMTTYPE=text/html:<span style="font-size:12px\;"><span style="font-family:tahoma\;">Join us for industry specific education\, networking and 2 packed days in Concord\, NC. &nbsp\;This popular event averages 175+ attendees each year and consistently receives high ratings from attendees. &nbsp\;<br />\n<br />\nEducation Sessions have been released and <a href="http://www.crmca.com/events/fall-workshop/">details can be found on the website</a>.&nbsp\; Topics this year include:<br />\n<br />\n<strong>KEYNOTE &amp\; GENERAL SESSIONS:</strong><br />\n<br />\n<u>Collaboration &ndash\; the Key to Customer and Sales Success</u><br />\n<em>Presented by Keith Eades\, Sales Performance International</em><br />\n&nbsp\;<br />\n<u>OSHA&rsquo\;s Knocking &hellip\; Do you let them in?</u><br />\n<em>Presented by Travis Vance\, Fisher Phillips\, Of Counsel</em><br />\n&nbsp\;<br />\n<u>The State of Our Industry: What Lies Ahead</u><br />\n<em>Presented by Pierre Villere\, Allen-Villere Partners</em></span></span><br />\n<br />\n<u style="font-family: tahoma\; font-size: 12px\; line-height: 19.2px\;"><span style="color: rgb(68\, 68\, 68)\; line-height: normal\;">Fishing and Beers: How Your Favorite Companies Are a Threat to Your Concrete Plant and a Source of Lessons Learned</span></u><br style="font-family: tahoma\; font-size: 12px\; line-height: 19.2px\;" />\n<em style="font-family: tahoma\; font-size: 12px\; line-height: 20.8px\;">Presented by Doug&nbsp\;Ruhlin\, Resource Management Associates</em><br />\n<span style="font-size:12px\;"><span style="font-family:tahoma\;">&nbsp\;<br />\n<strong>BREAKOUT SESSIONS:</strong><br />\n&nbsp\;<br />\n<u>Preparing for 2017: ACA &amp\; EEOC Compliance and Updates</u><br />\n<em>Presented by Ed Bray\, Ascension Insurance\, Employee Benefits Strategy &amp\; Execution Leader /&nbsp\; SVP\, Compliance</em><br />\n&nbsp\;<br />\n<u>Rev Up Your Social Media</u><br />\n<em>Presented by Courtney Rogers\, mRELEVANCE</em><br />\n&nbsp\;<br />\n<u>Staying ahead of the Driver/Mechanic Shortage Curve</u></span></span><br style="line-height: 20.8px\;" />\n&nbsp\;
LOCATION:The Embassy Suites 5400 John Q. Hammons Dr. NW Concord\, NC 28027 Rate: $146/night Rate Availability: Monday\, October 31\, 2016 to Thursday\, November 3\, 2016 Reservation Deadline: October 1\, 2016 - rooms after this date may be available (see below for whom to call) Click here to Make Reservations ONLINE or call hotel directly at 704-455-8200 and speak to the reservations department and reference CRMCA Fall Workshop.
UID:e.9366.20
SEQUENCE:3
DTSTAMP:20260421T040812Z
URL:http://crmcanc.memberzone.com/events/details/crmca-fall-workshop-11-01-2016-20
END:VEVENT

END:VCALENDAR
