BEGIN:VCALENDAR
VERSION:2.0
PRODID:-//ChamberMaster//Event Calendar 2.0//EN
METHOD:PUBLISH
X-PUBLISHED-TTL:P3D
REFRESH-INTERVAL:P3D
CALSCALE:GREGORIAN
BEGIN:VEVENT
DTSTART:20171101T143000Z
DTEND:20171102T160000Z
X-MICROSOFT-CDO-ALLDAYEVENT:FALSE
SUMMARY:CRMCA Fall Workshop - 2017
DESCRIPTION:Join us for industry specific education\, networking and 2 packed days in Concord\, NC.  This popular event averages 200+ attendees each year and consistently receives high ratings from attendees.  We have a full slate of industry topics and speakers lined up for the great event!\n\n\n\nKEYNOTE SPEAKERS:\n\n \n\nFANtastic Selling: Build Better Relationships & Close More Sales\n\nPresented by Meredith Oliver\, CSP\, Meredith Communications \n\n \n\nGetting to the Next Level of Safety Performance\n\nPresented by Bob McCall\, Inspire High Performance\, LLC \n\n \n\nGENERAL SESSIONS:\n\n \n\nLabor Laws & Union Avoidance\n\n \n\nHealthcare Today & What it Means for Your Company\n\n \n\nBREAKOUT SESSIONS:\n\n \n\nFANtastic Selling Part 2\n\nPresented by Meredith Oliver\, CSP\, Meredith Communications\n\n \n\nHuman Performance\n\nPresented by Bob McCall\, Inspire High Performance\, LLC \n\n \n\nStay in the Know: Safety & Compliance\, Hours of Service and Updates\n\nPresented by Ascension Insurance
X-ALT-DESC;FMTTYPE=text/html:<span style="font-size:12px\;"><span style="font-family:tahoma\;">Join us for industry specific education\, networking and 2 packed days in Concord\, NC. &nbsp\;This popular event averages 200+ attendees each year and consistently receives high ratings from attendees. &nbsp\;We have a full slate of industry topics and speakers lined up for the great event!<br />\n<br />\n<strong><span style="background:yellow\;">KEYNOTE SPEAKERS:</span></strong><br />\n&nbsp\;<br />\n<strong><u>FANtastic Selling: Build Better Relationships &amp\; Close More Sales</u></strong><br />\n<strong><em>Presented by Meredith Oliver\, CSP\, Meredith Communications </em></strong><br />\n&nbsp\;<br />\n<strong><u>Getting to the Next Level of Safety Performance</u></strong><br />\n<strong><em>Presented by Bob McCall\, Inspire High Performance\, LLC </em></strong><br />\n&nbsp\;<br />\n<strong><span style="background:yellow\;">GENERAL SESSIONS:</span></strong><br />\n&nbsp\;<br />\n<strong><u>Labor Laws &amp\; Union Avoidance</u></strong><br />\n&nbsp\;<br />\n<strong><u>Healthcare Today &amp\; What it Means for Your Company</u></strong><br />\n&nbsp\;<br />\n<strong><span style="background:yellow\;">BREAKOUT SESSIONS:</span></strong><br />\n&nbsp\;<br />\n<strong><u>FANtastic Selling Part 2</u></strong><br />\n<strong><em>Presented by Meredith Oliver\, CSP\, Meredith Communications</em></strong><br />\n&nbsp\;<br />\n<strong><u><span style="color:#444444\;">Human Performance</span></u></strong><br />\n<strong><em><span style="color:#444444\;">Presented by Bob McCall\, Inspire High Performance\, LLC </span></em></strong><br />\n&nbsp\;<br />\n<strong><u><span style="color:#444444\;">Stay in the Know: Safety &amp\; Compliance\, Hours of Service and Updates</span></u></strong><br />\n<strong><em><span style="color:#444444\;">Presented by Ascension Insurance</span></em></strong></span></span><br />\n&nbsp\;
LOCATION:Overflow Rooms for Fall Workshop The Courtyard Charlotte Concord is located just across the parking lot from the Embassy Suites so walking between the two hotels is an option for ease. Please use the link below to book by Oct. 23rd - we have 30 additional rooms at this hotel. CRMCA Group Link for Online Booking at Courtyard Charlotte Concord The Embassy Suites 5400 John Q. Hammons Dr. NW Concord\, NC 28027 Rate: $154/night Rate Availability: Tuesday\, October 31\, 2017 to Thursday\, November 2\, 2017 Click here to Make Reservations ONLINE or call hotel directly at 704-455-8200 and speak to the reservations department and reference Group Code: RMC.
UID:e.9366.47
SEQUENCE:3
DTSTAMP:20260420T073326Z
URL:http://crmcanc.memberzone.com/events/details/crmca-fall-workshop-2017-47
END:VEVENT

END:VCALENDAR
