BEGIN:VCALENDAR
VERSION:2.0
PRODID:-//ChamberMaster//Event Calendar 2.0//EN
METHOD:PUBLISH
X-PUBLISHED-TTL:P3D
REFRESH-INTERVAL:P3D
CALSCALE:GREGORIAN
BEGIN:VEVENT
DTSTART:20160930T120000Z
DTEND:20160930T180000Z
X-MICROSOFT-CDO-ALLDAYEVENT:FALSE
SUMMARY:CRMCA Sporting Clay Event - 2016
DESCRIPTION:Join us for the CRMCA Sporting Clay Event in Norwood\, NC at the great Fork & Farm Stables.  Enjoy some friendly competition\, great food and a fun time with fellow CRMCA Members on an award winning course!\n\n\n\nThe tournament will consist of:\n\n\n	14 station\, 100 target\, Championship Course\n	5 boxes of shells included with player fee\n	Prizes awarded for 1st Place and Various Skill Games\n\n Attendees are encouraged to bring a check or credit card to make a donation to the CRMCA NC PAC to participate in our raffles and additional games during the event.  These include:\n\n\n	Mulligans\n	Golden Targets\n	Team Flurry Competition\n	Turkey Shoot\n	Raffles include: Beretta A300 Outlander Semiautomatic Shotgun and a Yeti Hopper Flip\n\n\nRegistration will be from 8am until 9:15am and ALL players will be required to attend a safety meeting at 9:30am with the tournament starting at 9:45 am.  Lunch and awards will follow at 12:30 pm. \n\n \n\nEye and ear protection are required.  Foam ear plugs and basic safety glasses are acceptable. Players are permitted to bring their own guns but you may also rent a gun onsite directly from The Fork for $35.\n\n \n\nThis event is hosted by CRMCA and team entry fees may be paid by company check.  Team entry is encouraged but single players will be accepted and placed as space is permitted. \n\n\n\nAs a reminder\, participation in the raffles and the additional games require a donation to the CRMCA NC PAC and must be made with personal funds by check or credit card.
X-ALT-DESC;FMTTYPE=text/html:<p><span style="font-size:14px\;"><span style="font-family:tahoma\;"><span style="color:#464646\;">Join us for the CRMCA Sporting Clay Event in Norwood\, NC at the great <a href="http://www.forkstables.com/">Fork &amp\; Farm Stables</a>.&nbsp\; Enjoy some friendly competition\, great food and a fun time with fellow CRMCA Members on an award winning course!</span><br />\n<br />\n<span style="color:#464646\;">The tournament will consist of:</span></span></span></p>\n\n<ul>\n	<li><span style="font-size:14px\;"><span style="font-family:tahoma\;"><span style="color:#464646\;">14 station\, 100 target\, Championship Course</span></span></span></li>\n	<li><span style="font-size:14px\;"><span style="font-family:tahoma\;"><span style="color:#464646\;"><span style="color:#464646\;">5 boxes of shells included&nbsp\;with player fee</span></span></span></span></li>\n	<li><span style="font-size:14px\;"><span style="font-family:tahoma\;"><span style="color:#464646\;"><span style="color:#464646\;"><span style="color:#464646\;"><span style="color:#464646\;"><span style="color:#464646\;">Prizes awarded for 1st Place and Various Skill Games</span></span></span></span></span></span></span></li>\n</ul>\n<span style="font-size:14px\;"><span style="font-family:tahoma\;"><span style="color:#464646\;"><span style="color:#464646\;"><span style="color:#464646\;"><span style="color:#464646\;"><span style="color:#464646\;">&#8203\;A<span style="color:#464646\;">ttendees are encouraged to bring a check or credit card to make a donation to the CRMCA NC PAC to participate in our raffles and additional games during the event.&nbsp\; These include:</span></span></span></span></span></span></span></span>\n\n<ul>\n	<li style="color:rgb(70\, 70\, 70)\;margin-bottom:0.0001pt\;line-height:15.6pt\;vertical-align:baseline\;background-image:initial\;background-attachment:initial\;background-size:initial\;background-origin:initial\;background-clip:initial\;background-position:initial\;background-repeat:initial\;"><span style="font-size:14px\;"><span style="font-family:tahoma\;">Mulligans</span></span></li>\n	<li style="color:rgb(70\, 70\, 70)\;margin-bottom:0.0001pt\;line-height:15.6pt\;vertical-align:baseline\;background-image:initial\;background-attachment:initial\;background-size:initial\;background-origin:initial\;background-clip:initial\;background-position:initial\;background-repeat:initial\;"><span style="font-size:14px\;"><span style="font-family:tahoma\;">Golden Targets</span></span></li>\n	<li style="color:rgb(70\, 70\, 70)\;margin-bottom:0.0001pt\;line-height:15.6pt\;vertical-align:baseline\;background-image:initial\;background-attachment:initial\;background-size:initial\;background-origin:initial\;background-clip:initial\;background-position:initial\;background-repeat:initial\;"><span style="font-size:14px\;"><span style="font-family:tahoma\;">Team Flurry Competition</span></span></li>\n	<li style="color:rgb(70\, 70\, 70)\;margin-bottom:0.0001pt\;line-height:15.6pt\;vertical-align:baseline\;background-image:initial\;background-attachment:initial\;background-size:initial\;background-origin:initial\;background-clip:initial\;background-position:initial\;background-repeat:initial\;"><span style="font-size:14px\;"><span style="font-family:tahoma\;">Turkey Shoot</span></span></li>\n	<li style="color:rgb(70\, 70\, 70)\;margin-bottom:0.0001pt\;line-height:15.6pt\;vertical-align:baseline\;background-image:initial\;background-attachment:initial\;background-size:initial\;background-origin:initial\;background-clip:initial\;background-position:initial\;background-repeat:initial\;"><span style="font-size:14px\;"><span style="font-family:tahoma\;">Raffles include: Beretta A300 Outlander Semiautomatic Shotgun and a Yeti Hopper Flip</span></span></li>\n</ul>\n\n<p><span style="font-size:14px\;"><span style="font-family:tahoma\;"><span style="color:#464646\;">Registration will be from 8am until 9:15am and <strong>ALL players will be required to attend a safety meeting at 9:30am</strong> with the tournament starting at 9:45 am.&nbsp\; Lunch and awards will follow at 12:30 pm.&nbsp\;</span><br />\n&nbsp\;<br />\n<span style="color:#464646\;">Eye and ear protection are required.&nbsp\; Foam ear plugs and basic safety glasses are acceptable. Players are permitted to bring their own guns but you may also rent a gun onsite directly from The Fork for $35.</span><br />\n&nbsp\;<br />\n<span style="color:#464646\;">This event is hosted by CRMCA and team entry fees may be paid by company check.&nbsp\; Team entry is encouraged but single players will be accepted and placed as space is permitted.&nbsp\;<br />\n<br />\nAs a reminder\, participation in the raffles and the additional games require a donation to the CRMCA NC PAC and must be made with personal funds by check or credit card.&nbsp\;&nbsp\;</span></span></span></p>\n
LOCATION:The Fork Farm & Stables 3200 Fork Road Norwood\, NC 28128
UID:e.9366.21
SEQUENCE:3
DTSTAMP:20260421T074328Z
URL:http://crmcanc.memberzone.com/events/details/crmca-sporting-clay-event-2016-21
END:VEVENT

END:VCALENDAR
