BEGIN:VCALENDAR
VERSION:2.0
PRODID:-//ChamberMaster//Event Calendar 2.0//EN
METHOD:PUBLISH
X-PUBLISHED-TTL:P3D
REFRESH-INTERVAL:P3D
CALSCALE:GREGORIAN
BEGIN:VEVENT
DTSTART:20160809T153000Z
DTEND:20160809T170000Z
X-MICROSOFT-CDO-ALLDAYEVENT:FALSE
SUMMARY:East Carolina Chapter CEC
DESCRIPTION:Join us for lunch\, networking and a brief program\, Trooper Matthew Bunn with the NC Department of Safety\, NC State Highway Patrol will present Safety\, Hours of Service\, Inspections\, etc.
X-ALT-DESC;FMTTYPE=text/html:Join us for lunch\, networking and a brief program\, Trooper Matthew Bunn with the NC Department of Safety\,&nbsp\;NC State Highway Patrol will present Safety\, Hours of Service\, Inspections\, etc.&nbsp\;
LOCATION:King's BBQ 405 E. New Bern Road Kinston\, NC
UID:e.9366.11
SEQUENCE:3
DTSTAMP:20260421T093659Z
URL:http://crmcanc.memberzone.com/events/details/east-carolina-chapter-cec-08-09-2016-11
END:VEVENT

END:VCALENDAR
