BEGIN:VCALENDAR
VERSION:2.0
PRODID:-//ChamberMaster//Event Calendar 2.0//EN
METHOD:PUBLISH
X-PUBLISHED-TTL:P3D
REFRESH-INTERVAL:P3D
CALSCALE:GREGORIAN
BEGIN:VEVENT
DTSTART:20170214T163000Z
DTEND:20170214T180000Z
X-MICROSOFT-CDO-ALLDAYEVENT:FALSE
SUMMARY:East Carolina Chapter CEC - February 2017
DESCRIPTION:Join us for lunch\, networking and a brief program.  The Program will be:\nType IL cement \n\nPresented by Eddie Deaver\, LafargeHolcim
X-ALT-DESC;FMTTYPE=text/html:<span style="font-size:16px\;"><span style="font-family:times new roman\;">Join us for lunch\, networking and a brief program. &nbsp\;The Program will be:</span></span>\n<div style="text-align: center\;"><span style="font-size:16px\;"><span style="font-family:times new roman\;"><span style="font-size:22px\;">Type IL cement </span></span></span></div>\n\n<div style="text-align: center\;"><span style="font-size:22px\;"><span style="font-family:times new roman\;">Presented by Eddie Deaver\, LafargeHolcim</span></span></div>\n
LOCATION:King's BBQ 405 E. New Bern Road Kinston\, NC
UID:e.9366.41
SEQUENCE:3
DTSTAMP:20260421T005137Z
URL:http://crmcanc.memberzone.com/events/details/east-carolina-chapter-cec-february-2017-41
END:VEVENT

END:VCALENDAR
