BEGIN:VCALENDAR
VERSION:2.0
PRODID:-//ChamberMaster//Event Calendar 2.0//EN
METHOD:PUBLISH
X-PUBLISHED-TTL:P3D
REFRESH-INTERVAL:P3D
CALSCALE:GREGORIAN
BEGIN:VEVENT
DTSTART:20160901T150000Z
DTEND:20160901T170000Z
X-MICROSOFT-CDO-ALLDAYEVENT:FALSE
SUMMARY:Fleet & Maintenance Committee
DESCRIPTION:The committee will be reviewing the 2016 Mixer Driver Rodeo\, begin planning for the 2017 Mixer Driver Rodeo and discuss/review issues in regards to fleet and plant maintenance.
X-ALT-DESC;FMTTYPE=text/html:The committee will be reviewing the 2016 Mixer Driver Rodeo\, begin planning for the 2017 Mixer Driver Rodeo and discuss/review issues in regards to fleet and plant maintenance.
LOCATION:The meeting will be held at the CRMCA Office and Lunch will be provided to please register online or email caroline@crmca.com with your attendance.
UID:e.9366.26
SEQUENCE:3
DTSTAMP:20260421T080322Z
URL:http://crmcanc.memberzone.com/events/details/fleet-maintenance-committee-09-01-2016-26
END:VEVENT

END:VCALENDAR
