BEGIN:VCALENDAR
VERSION:2.0
PRODID:-//ChamberMaster//Event Calendar 2.0//EN
METHOD:PUBLISH
X-PUBLISHED-TTL:P3D
REFRESH-INTERVAL:P3D
CALSCALE:GREGORIAN
BEGIN:VEVENT
DTSTART:20170809T121500Z
DTEND:20170809T133000Z
X-MICROSOFT-CDO-ALLDAYEVENT:FALSE
SUMMARY:Grand Strand Chapter CEC - August 2017
DESCRIPTION:Join us for breakfast\, networking and a brief program on ICFs In Today's Market presented by Buddy Hughes\, LOGIX.
X-ALT-DESC;FMTTYPE=text/html:Join us for breakfast\, networking and a brief program on ICFs&nbsp\;In Today&#39\;s Market presented by Buddy Hughes\, LOGIX.
LOCATION:Famous Toastery 2005 Oak Heart Rd.\, Suite 5 Myrtle Beach\, SC
UID:e.9366.60
SEQUENCE:3
DTSTAMP:20260420T123219Z
URL:http://crmcanc.memberzone.com/events/details/grand-strand-chapter-cec-august-2017-60
END:VEVENT

END:VCALENDAR
