BEGIN:VCALENDAR
VERSION:2.0
PRODID:-//ChamberMaster//Event Calendar 2.0//EN
METHOD:PUBLISH
X-PUBLISHED-TTL:P3D
REFRESH-INTERVAL:P3D
CALSCALE:GREGORIAN
BEGIN:VEVENT
DTSTART:20170208T130000Z
DTEND:20170208T143000Z
X-MICROSOFT-CDO-ALLDAYEVENT:FALSE
SUMMARY:Grand Strand Chapter CEC - February 2017
DESCRIPTION:Join us for breakfast and networking.  In addition to a business meeting\, the meeting will include planning for a Round Robin Testing Program in March.
X-ALT-DESC;FMTTYPE=text/html:Join us for breakfast and networking. &nbsp\;In addition to a business meeting\, the meeting will include planning for a Round Robin Testing Program in March.
LOCATION:Dead Dog Cafe 4079 US-17 Business Murrells Inlet\, SC
UID:e.9366.39
SEQUENCE:3
DTSTAMP:20260421T003626Z
URL:http://crmcanc.memberzone.com/events/details/grand-strand-chapter-cec-february-2017-39
END:VEVENT

END:VCALENDAR
