BEGIN:VCALENDAR
VERSION:2.0
PRODID:-//ChamberMaster//Event Calendar 2.0//EN
METHOD:PUBLISH
X-PUBLISHED-TTL:P3D
REFRESH-INTERVAL:P3D
CALSCALE:GREGORIAN
BEGIN:VEVENT
DTSTART:20170207T163000Z
DTEND:20170207T180000Z
X-MICROSOFT-CDO-ALLDAYEVENT:FALSE
SUMMARY:Low Country Chapter CEC - February 2017
DESCRIPTION:Join us for lunch\, networking and a brief program.  The Program will be:\nUpdate on SCFOR (South Carolina Alliance to Fix Our Roads)\n\nPresented by Jordan Marsh\, Associate Director of SCFOR
X-ALT-DESC;FMTTYPE=text/html:Join us for lunch\, networking and a brief program. &nbsp\;The Program will be:\n<div style="text-align: center\;"><span style="font-size:22px\;"><strong><span style="background-image:initial\;background-position:initial\;background-size:initial\;background-repeat:initial\;background-attachment:initial\;background-origin:initial\;background-clip:initial\;"><span style="color:#222222\;"><span style="font-family:cambria\,serif\;">Update on SCFOR&nbsp\;(South Carolina Alliance to Fix Our Roads)<br />\nPresented by Jordan Marsh\, Associate Director of SCFOR</span></span></span></strong></span></div>\n
LOCATION:Oscar's 207 W. 5th N. Street Summerville\, SC
UID:e.9366.38
SEQUENCE:3
DTSTAMP:20260420T225647Z
URL:http://crmcanc.memberzone.com/events/details/low-country-chapter-cec-february-2017-38
END:VEVENT

END:VCALENDAR
