BEGIN:VCALENDAR
VERSION:2.0
PRODID:-//ChamberMaster//Event Calendar 2.0//EN
METHOD:PUBLISH
X-PUBLISHED-TTL:P3D
REFRESH-INTERVAL:P3D
CALSCALE:GREGORIAN
BEGIN:VEVENT
DTSTART:20161115T163000Z
DTEND:20161115T180000Z
X-MICROSOFT-CDO-ALLDAYEVENT:FALSE
SUMMARY:Low Country Chapter CEC - November 2016
DESCRIPTION:Join us for lunch\, networking and a brief program.
X-ALT-DESC;FMTTYPE=text/html:Join us for lunch\, networking and a brief program.
LOCATION:Oscar's 207 W. 5th N. Street Summerville\, SC
UID:e.9366.34
SEQUENCE:3
DTSTAMP:20260421T060204Z
URL:http://crmcanc.memberzone.com/events/details/low-country-chapter-cec-november-2016-34
END:VEVENT

END:VCALENDAR
