BEGIN:VCALENDAR
VERSION:2.0
PRODID:-//ChamberMaster//Event Calendar 2.0//EN
METHOD:PUBLISH
X-PUBLISHED-TTL:P3D
REFRESH-INTERVAL:P3D
CALSCALE:GREGORIAN
BEGIN:VEVENT
DTSTART:20160818T153000Z
DTEND:20160818T170000Z
X-MICROSOFT-CDO-ALLDAYEVENT:FALSE
SUMMARY:Metrolina Chapter CEC
DESCRIPTION:Join us for lunch\, networking and a brief program on "Buying the Right Mix and Understanding What You Buy."  Hear from CRMCA Member Bryan Smith who is an ACI Certified Concrete Finisher Instructor - he'll share insight on what he sees daily in the field and ways to improve processes to help your contractors.  \n\n\n\nAs a reminder boxed lunches are $12.50 each - please RSVP here to sign up and pay for your lunch.  If you plan to attend but do not need a lunch please email Cindy at chambers@crmca.com
X-ALT-DESC;FMTTYPE=text/html:<span style="font-size:12px\;"><span style="font-family:arial\;">Join us for lunch\, networking and a brief program on&nbsp\;&quot\;Buying the Right Mix and Understanding What You Buy.&quot\; &nbsp\;Hear from&nbsp\;CRMCA&nbsp\;Member Bryan Smith who is an ACI&nbsp\;Certified Concrete Finisher Instructor -&nbsp\;he&#39\;ll&nbsp\;share insight on what he sees daily in the field and ways to improve processes to help your contractors.&nbsp\;&nbsp\;<br />\n<br />\n<span style="color: rgb(32\, 32\, 32)\;">As a reminder boxed lunches are $12.50 each - please RSVP here to sign up and pay for your lunch. &nbsp\;If you plan to attend but do not need a lunch please email Cindy at chambers@crmca.com</span></span></span>
LOCATION:CRMCA Office 1805 J.N. Pease Place Charlotte\, NC
UID:e.9366.16
SEQUENCE:3
DTSTAMP:20260421T123330Z
URL:http://crmcanc.memberzone.com/events/details/metrolina-chapter-cec-08-18-2016-16
END:VEVENT

END:VCALENDAR
