BEGIN:VCALENDAR
VERSION:2.0
PRODID:-//ChamberMaster//Event Calendar 2.0//EN
METHOD:PUBLISH
X-PUBLISHED-TTL:P3D
REFRESH-INTERVAL:P3D
CALSCALE:GREGORIAN
BEGIN:VEVENT
DTSTART:20161110T163000Z
DTEND:20161110T180000Z
X-MICROSOFT-CDO-ALLDAYEVENT:FALSE
SUMMARY:Metrolina Chapter CEC - November 2016
DESCRIPTION:Join us for lunch\, networking and a brief program.\n\n\n\nRSVP Required\n\nShort Program:\n\nQuestions and Answers on Trucking according to the NCDOT\, presented by Mark Emory\, NCDOT Highway Patrol
X-ALT-DESC;FMTTYPE=text/html:Join us for lunch\, networking and a brief program.<br />\n<br />\n<strong>RSVP Required</strong><br />\n<span style="background-image:initial\;background-position:initial\;background-size:initial\;background-repeat:initial\;background-attachment:initial\;background-origin:initial\;background-clip:initial\;"><span style="color:#222222\;"><span style="font-family:cambria\,serif\;"><span style="font-size:11pt\;">Short Program:</span></span></span></span><br />\n<span style="background-image:initial\;background-position:initial\;background-size:initial\;background-repeat:initial\;background-attachment:initial\;background-origin:initial\;background-clip:initial\;"><span style="color:#222222\;"><span style="font-family:cambria\,serif\;"><span style="font-size:11pt\;">Questions and Answers on Trucking according to the NCDOT\, presented by Mark Emory\, NCDOT Highway Patrol</span></span></span></span><br />\n<br />\n&nbsp\;
LOCATION:CRMCA Office 1805 J.N. Pease Place Charlotte\, NC
UID:e.9366.32
SEQUENCE:3
DTSTAMP:20260421T060204Z
URL:http://crmcanc.memberzone.com/events/details/metrolina-chapter-cec-november-2016-32
END:VEVENT

END:VCALENDAR
