BEGIN:VCALENDAR
VERSION:2.0
PRODID:-//ChamberMaster//Event Calendar 2.0//EN
METHOD:PUBLISH
X-PUBLISHED-TTL:P3D
REFRESH-INTERVAL:P3D
CALSCALE:GREGORIAN
BEGIN:VEVENT
DTSTART:20160823T153000Z
DTEND:20160823T170000Z
X-MICROSOFT-CDO-ALLDAYEVENT:FALSE
SUMMARY:Midlands Chapter CEC
DESCRIPTION:Join us for lunch\, networking and a brief program on Type 1L cement presented by Eddie Deaver\, Lafarge/Holcim.
X-ALT-DESC;FMTTYPE=text/html:Join us for lunch\, networking and a brief program on Type 1L cement presented by Eddie Deaver\, Lafarge/Holcim.
LOCATION:Grecian Gardens 2312 Sunset Blvd. West Columbia\, SC
UID:e.9366.17
SEQUENCE:3
DTSTAMP:20260421T092509Z
URL:http://crmcanc.memberzone.com/events/details/midlands-chapter-cec-08-23-2016-17
END:VEVENT

END:VCALENDAR
