BEGIN:VCALENDAR
VERSION:2.0
PRODID:-//ChamberMaster//Event Calendar 2.0//EN
METHOD:PUBLISH
X-PUBLISHED-TTL:P3D
REFRESH-INTERVAL:P3D
CALSCALE:GREGORIAN
BEGIN:VEVENT
DTSTART:20170801T153000Z
DTEND:20170801T170000Z
X-MICROSOFT-CDO-ALLDAYEVENT:FALSE
SUMMARY:Midlands Chapter CEC - August 2017
DESCRIPTION:Join us for lunch\, networking and a brief program presented by Chris Hartley with the SC Division of FMCSA on important updates and changes with Hours of Service as they relate to ready mix concrete drivers in South Carolina.
X-ALT-DESC;FMTTYPE=text/html:Join us for lunch\, networking and a brief program presented by Chris Hartley with the SC Division of FMCSA&nbsp\;on important updates and changes with Hours of Service as they relate to ready mix concrete drivers in South Carolina. &nbsp\;&nbsp\;
LOCATION:Grecian Gardens 2312 Sunset Blvd. West Columbia\, SC
UID:e.9366.58
SEQUENCE:3
DTSTAMP:20260420T141507Z
URL:http://crmcanc.memberzone.com/events/details/midlands-chapter-cec-august-2017-58
END:VEVENT

END:VCALENDAR
