BEGIN:VCALENDAR
VERSION:2.0
PRODID:-//ChamberMaster//Event Calendar 2.0//EN
METHOD:PUBLISH
X-PUBLISHED-TTL:P3D
REFRESH-INTERVAL:P3D
CALSCALE:GREGORIAN
BEGIN:VEVENT
DTSTART:20170801T190000Z
DTEND:20170801T200000Z
X-MICROSOFT-CDO-ALLDAYEVENT:FALSE
SUMMARY:NC Legislative Committee Meeting - August 1\, 2017
DESCRIPTION:NC Legislative Committee Meeting via conference call.
X-ALT-DESC;FMTTYPE=text/html:NC Legislative Committee Meeting via conference call.
LOCATION:Conference Call
UID:e.9366.87
SEQUENCE:3
DTSTAMP:20260420T141740Z
URL:http://crmcanc.memberzone.com/events/details/nc-legislative-committee-meeting-august-1-2017-87
END:VEVENT

END:VCALENDAR
