BEGIN:VCALENDAR
VERSION:2.0
PRODID:-//ChamberMaster//Event Calendar 2.0//EN
METHOD:PUBLISH
X-PUBLISHED-TTL:P3D
REFRESH-INTERVAL:P3D
CALSCALE:GREGORIAN
BEGIN:VEVENT
DTSTART;VALUE=DATE:20170131
DTEND;VALUE=DATE:20170204
TRANSP:TRANSPARENT
X-MICROSOFT-CDO-ALLDAYEVENT:TRUE
SUMMARY:NRMCA Level 2 Concrete Technologist (with optional NCDOT Batch Certification)
DESCRIPTION:Course Description:\n\nThis course provides intensive training and certification on the fundamentals of concrete. Since 1964\, several thousand course attendees have attained NRMCA certification.  Course content includes fundamentals of concrete and its ingredient materials\, ACI and ASTM standards as well as basic principles for concrete\, aggregate tests\, and calculations leading to mixture proportion and batch adjustments.  One year experience in the concrete industry is recommended but not required. \n\n \n\nTopics Include:\n\nFundamentals of Concrete\, Ready Mixed Concrete & ASTM C94\, Cement\, Fly Ash\, Slag & Silica Fume\, Aggregates\, Chemical Admixtures\, Statistical Methods\, ACI Code & Specification\, Testing Hardened Concrete\, Concreting in Extreme Weather\, Managing Returned Concrete\, Quality Control Procedures\, Innovative Concrete Applications\, Handling\, Placing & Finishing. \n\n \n\nAgenda:\n\nJanuary 31 - 9am - 5pm\n\n-NRMCA Level 2 Concrete Technologist Classroom with Lunch Break from 12-1pm\, lunch provided. \n\n\n\nFebruary 1 & 2 - 8am - 5pm\n\n-NRMCA Level 2 Concrete Technologist Classroom with Lunch Break from 12-1pm\, on your own.\n\n\n\nFebruary 3 \n\n-8:00am - 9:00am - Review\n\n-9:00am - 10:30am - NRMCA Level 2 Concrete Technologist Certification Exam\n\n-10:45am - 12:15pm - Optional NCDOT Batch Certification Exam (requires additional $100 fee)\n\n\n\nUpon Completion of the course training\, attendees may test for the following:\n\n \n\nNRMCA CERTIFIED CONCRETE TECHNOLOGIST\, LEVEL 2\n\nThe applicant must pass a 1 -hour examination consisting of questions on concrete materials and production practices plus basic mixture proportioning methods and data evaluation procedures. An exam score of at least 75% is required to receive certification. Approximately 60% of those who take the exam pass. NRMCA Level 2 certification expires five years from the date of the exam. See policy for those who obtained certification prior to 2000.\n\n\n\nNCDOT BATCH CERTIFICATION\n\nInformation specific to the NCDOT Batch Certification Exam will be presented from 3:15   4:45 pm on Thursday.  To be eligible to take the NCDOT Batch Certification Exam\, the examinee must be an ACI Grade 1 Field Testing Technician (Note:  The ACI certification does not need to be current.  Examinee must present ACI card).  An additional fee of $100 will be required to sit for the NCDOT Batch Exam. \n\n\n\nApplicant Qualifications:\n\nThis course covers a significant amount of technical material in 3 days\, including basic mathematical and statistical calculations (for a quick quiz to test your math skills\, click here). Persons attempting the exam on Friday will be responsible for grasping this information. It is the responsibility of the registrant and his/her manager to ensure that the attendee has the requisite qualifications and level of education to attend the course.\n\n\n\nRegistrants will receive a pre-course study package before the course if registered before January 15\, 2017. Pre-course study is recommended to ensure that attendees maximize their opportunity to learn\, participate in discussions and take the examination(s). Click here for a list of additional resources that are recommended to enhance your learning.
X-ALT-DESC;FMTTYPE=text/html:<p><span style="font-size:11px\;"><strong><u><span style="font-family:arial\,sans-serif\;">Course Description:</span></u></strong><br />\n<span style="font-family:arial\,sans-serif\;">This course provides intensive training and certification on the fundamentals of concrete. Since 1964\, several thousand course attendees have attained&nbsp\;NRMCA&nbsp\;certification.&nbsp\; Course content includes fundamentals of concrete and its ingredient materials\, ACI and ASTM standards as well as basic principles for concrete\, aggregate tests\, and calculations leading to mixture proportion and batch adjustments.&nbsp\; One year experience in the concrete industry is recommended but not required.&nbsp\;</span><br />\n&nbsp\;<br />\n<strong><u><span style="font-family:arial\,sans-serif\;">Topics Include:</span></u></strong><br />\n<span style="font-family:arial\,sans-serif\;">Fundamentals of Concrete\, Ready Mixed Concrete &amp\; ASTM C94\, Cement\, Fly Ash\, Slag &amp\; Silica Fume\, Aggregates\, Chemical Admixtures\, Statistical Methods\, ACI Code &amp\; Specification\, Testing Hardened Concrete\, Concreting in Extreme Weather\, Managing Returned&nbsp\;Concrete\, Quality Control Procedures\, Innovative Concrete Applications\, Handling\, Placing &amp\; Finishing.&nbsp\;</span><br />\n&nbsp\;<br />\n<strong style="font-family: arial\, sans-serif\;"><u>Agenda:</u><br />\nJanuary 31 - 9am - 5pm</strong><br style="font-family: arial\, sans-serif\;" />\n<span style="font-family: arial\, sans-serif\;">-</span>NRMCA<span style="font-family: arial\, sans-serif\;">&nbsp\;Level 2 Concrete Technologist Classroom with Lunch Break from&nbsp\;</span>12-1pm\, lunch provided.&nbsp\;<br style="font-family: arial\, sans-serif\;" />\n<br />\n<strong style="font-family: arial\, sans-serif\;">February 1 &amp\; 2 - 8am - 5pm</strong><br style="font-family: arial\, sans-serif\;" />\n<span style="font-family: arial\, sans-serif\;">-</span>NRMCA<span style="font-family: arial\, sans-serif\;">&nbsp\;Level 2 Concrete Technologist Classroom with Lunch Break from&nbsp\;</span>12-1pm\, on your own.<br style="font-family: arial\, sans-serif\;" />\n<br style="font-family: arial\, sans-serif\;" />\n<strong style="font-family: arial\, sans-serif\;">February 3&nbsp\;</strong></span><br style="font-size: 11px\; font-family: arial\, sans-serif\;" />\n<span style="font-family:arial\;"><span style="font-size:11px\;">-8:00am&nbsp\;- 9:00am&nbsp\;- Review<br style="font-family: arial\, sans-serif\;" />\n-9:00am&nbsp\;- 10:30am&nbsp\;-&nbsp\;NRMCA&nbsp\;Level 2 Concrete Technologist Certification Exam</span><br style="font-family: arial\, sans-serif\;" />\n<span style="font-size:11px\;">-10:45am&nbsp\;- 12:15pm&nbsp\;- Optional&nbsp\;NCDOT&nbsp\;Batch Certification Exam (requires additional $100 fee)</span></span><br />\n<br />\n<span style="font-size:11px\;"><strong><u><span style="font-family:arial\,sans-serif\;">Upon Completion of the course training\, attendees may test for the following:</span></u></strong><br />\n&nbsp\;<br />\n<strong><em><span style="font-family:arial\,sans-serif\;">NRMCA&nbsp\;CERTIFIED CONCRETE TECHNOLOGIST\, LEVEL 2</span></em></strong><br />\n<span style="font-family:arial\,sans-serif\;">The applicant must pass a 1&frac12\;-hour examination consisting of questions on concrete materials and production practices plus basic mixture proportioning methods and data evaluation procedures. An exam score of at least 75% is required to receive certification. Approximately 60% of those who take the exam pass.&nbsp\;NRMCA&nbsp\;Level 2 certification expires five years from the date of the exam. See&nbsp\;<a href="http://nrmca.org/products/education/Policy%20on%20Expiration%20date%20for%20NRMCA%20Level%202%20Certification.htm" target="_blank">policy</a>&nbsp\;for those who obtained certification prior to 2000.</span><br />\n<br />\n<strong><em><span style="font-family:arial\,sans-serif\;">NCDOT&nbsp\;BATCH CERTIFICATION</span></em></strong><br />\n<span style="font-family:arial\,sans-serif\;">Information specific to the&nbsp\;NCDOT&nbsp\;Batch Certification Exam will be presented from 3:15 &ndash\; 4:45 pm on Thursday.&nbsp\; To be eligible to take the&nbsp\;NCDOT&nbsp\;Batch Certification Exam\, the examinee must be an ACI Grade 1 Field Testing Technician (Note:&nbsp\; The ACI certification does not need to be current.&nbsp\; Examinee must present ACI card). &nbsp\;An additional fee of $100 will be required to sit for the NCDOT Batch Exam.&nbsp\;</span><br />\n<br />\n<strong><u><span style="font-family:arial\,sans-serif\;">Applicant Qualifications:</span></u></strong><br />\n<span style="font-family:arial\,sans-serif\;">This course covers a significant amount of technical material in 3 days\, including basic mathematical and statistical calculations (for a quick quiz to test your math skills\,&nbsp\;<a href="http://www.nrmca.org/Education/DOWNLOADS/Reg_Math_Quiz.pdf" target="_blank">click here</a>). Persons attempting the exam on Friday will be responsible for grasping this information. It is the responsibility of the registrant and his/her manager to ensure that the attendee has the requisite qualifications and level of education to attend the course.</span><br />\n<br />\n<span style="font-family:arial\,sans-serif\;">Registrants will receive a pre-course study package before the course if registered before January 15\, 2017. Pre-course study is recommended to ensure that attendees maximize their opportunity to learn\, participate in discussions and take the examination(s).&nbsp\;<a href="http://www.nrmca.org/products/education/RelatedProducts/ShortCourse.asp">Click here</a>&nbsp\;for a list of additional resources that are recommended to enhance your learning.&nbsp\;</span></span></p>\n
LOCATION:CRMCA Office 1805 J.N. Pease Place Charlotte\, NC 28262 Hotel info available upon request
UID:e.9366.36
SEQUENCE:3
DTSTAMP:20260421T003434Z
URL:http://crmcanc.memberzone.com/events/details/nrmca-level-2-concrete-technologist-with-optional-ncdot-batch-certification-36
END:VEVENT

END:VCALENDAR
