BEGIN:VCALENDAR
VERSION:2.0
PRODID:-//ChamberMaster//Event Calendar 2.0//EN
METHOD:PUBLISH
X-PUBLISHED-TTL:P3D
REFRESH-INTERVAL:P3D
CALSCALE:GREGORIAN
BEGIN:VEVENT
DTSTART:20160817T153000Z
DTEND:20160817T170000Z
X-MICROSOFT-CDO-ALLDAYEVENT:FALSE
SUMMARY:Piedmont Chapter CEC
DESCRIPTION:Join us for lunch\, networking and a brief program\, Political Update presented by Bruce Bannister\, SC House of Representatives\, District 24\, House Majority Leader.
X-ALT-DESC;FMTTYPE=text/html:Join us for lunch\, networking and a brief program\, Political Update presented by Bruce Bannister\, SC House of Representatives\, District 24\, House Majority Leader.
LOCATION:Logan's Roadhouse 53 Beacon Drive Greenville\, SC
UID:e.9366.15
SEQUENCE:3
DTSTAMP:20260421T092608Z
URL:http://crmcanc.memberzone.com/events/details/piedmont-chapter-cec-08-17-2016-15
END:VEVENT

END:VCALENDAR
