BEGIN:VCALENDAR
VERSION:2.0
PRODID:-//ChamberMaster//Event Calendar 2.0//EN
METHOD:PUBLISH
X-PUBLISHED-TTL:P3D
REFRESH-INTERVAL:P3D
CALSCALE:GREGORIAN
BEGIN:VEVENT
DTSTART:20170222T163000Z
DTEND:20170222T180000Z
X-MICROSOFT-CDO-ALLDAYEVENT:FALSE
SUMMARY:Piedmont Chapter CEC - February 2017
DESCRIPTION:Join us for lunch\, networking and a brief program.  The Program will be:\nUpdate on SCFOR \n\n(South Carolina Alliance to Fix Our Roads)\n\nPresented by Jordan Marsh\, Associate Director of SCFOR
X-ALT-DESC;FMTTYPE=text/html:Join us for lunch\, networking and a brief program. &nbsp\;The Program will be:\n<div style="text-align: center\;"><strong style="font-size: 22px\; text-align: center\;"><span style="background-image: initial\; background-position: initial\; background-size: initial\; background-repeat: initial\; background-attachment: initial\; background-origin: initial\; background-clip: initial\;"><span style="color: rgb(34\, 34\, 34)\;"><span style="font-family: cambria\, serif\;">Update on&nbsp\;SCFOR&nbsp\;<br />\n(South Carolina Alliance to Fix Our Roads)<br />\nPresented by Jordan Marsh\, Associate Director of&nbsp\;SCFOR</span></span></span></strong></div>\n
LOCATION:Logan's Roadhouse 53 Beacon Drive Greenville\, SC
UID:e.9366.45
SEQUENCE:3
DTSTAMP:20260421T003804Z
URL:http://crmcanc.memberzone.com/events/details/piedmont-chapter-cec-february-2017-45
END:VEVENT

END:VCALENDAR
