BEGIN:VCALENDAR
VERSION:2.0
PRODID:-//ChamberMaster//Event Calendar 2.0//EN
METHOD:PUBLISH
X-PUBLISHED-TTL:P3D
REFRESH-INTERVAL:P3D
CALSCALE:GREGORIAN
BEGIN:VEVENT
DTSTART:20161011T140000Z
DTEND:20161011T190000Z
X-MICROSOFT-CDO-ALLDAYEVENT:FALSE
SUMMARY:Safety Essentials: New Updates & Changes You Need to Know
DESCRIPTION:Open to all CRMCA members - great for Plant Managers\, Operators\, Dispatchers\, Production Managers and Safety & HR Staff.  Join us from 10am - 3pm for need to know info including:\n\n\n	OSHA Top 10 Safety Violations & Record Keeping Updates presented by Lee Peacock\, NCDOL\, District Supervisor\n\n\n\n	Hours of Service Updates & How to Work with the Changes presented by Mark Herring\, NC Highway Patrol\n\n\n\n	Safety Technology - New Trends presented by a panel including representatives covering TrackIt Software\, Drive Cams & Safety Uses as well as CRMCA & NRMCA Resources\n\nSpace is limited to 40 participants - don't delay in signing up today!
X-ALT-DESC;FMTTYPE=text/html:<font face="tahoma\, verdana\, segoe\, sans-serif" style="color: rgb(32\, 32\, 32)\; font-size: 16px\; line-height: 16px\;"><span style="font-size: 12px\;">Open to all CRMCA members - great for Plant Managers\, Operators\, Dispatchers\, Production Managers and Safety &amp\; HR Staff. &nbsp\;Join us from 10am - 3pm for need to know info including:</span></font>\n\n<ul>\n	<li><font face="tahoma\, verdana\, segoe\, sans-serif" style="color: rgb(32\, 32\, 32)\; font-size: 16px\; line-height: 16px\;"><span style="font-size: 12px\;"><strong>OSHA Top 10 Safety Violations &amp\; Record Keeping Updates</strong> presented by Lee Peacock\, NCDOL\, District Supervisor</span></font></li>\n</ul>\n\n<ul>\n	<li><font face="tahoma\, verdana\, segoe\, sans-serif" style="color: rgb(32\, 32\, 32)\; font-size: 16px\; line-height: 16px\;"><span style="font-size: 12px\;"><strong>Hours&nbsp\;of Service Updates &amp\; How to Work with the Changes</strong> presented by Mark Herring\, NC Highway Patrol</span></font></li>\n</ul>\n\n<ul>\n	<li><font face="tahoma\, verdana\, segoe\, sans-serif" style="color: rgb(32\, 32\, 32)\; font-size: 16px\; line-height: 16px\;"><span style="font-size: 12px\;"><strong>Safety Technology - New Trends</strong> presented by a panel including representatives covering TrackIt Software\, Drive Cams &amp\; Safety Uses as well as CRMCA &amp\; NRMCA&nbsp\;Resources</span></font></li>\n</ul>\n<font face="tahoma\, verdana\, segoe\, sans-serif" style="color: rgb(32\, 32\, 32)\; font-size: 16px\; line-height: 16px\;"><span style="font-size: 12px\;">Space is limited to 40 participants - don&#39\;t delay in signing up today!&nbsp\;</span></font>
LOCATION:CRMCA Office 1805 J.N. Pease Place Charlotte\, NC 28262
UID:e.9366.19
SEQUENCE:3
DTSTAMP:20260421T060242Z
URL:http://crmcanc.memberzone.com/events/details/safety-essentials-new-updates-changes-you-need-to-know-10-11-2016-19
END:VEVENT

END:VCALENDAR
