BEGIN:VCALENDAR
VERSION:2.0
PRODID:-//ChamberMaster//Event Calendar 2.0//EN
METHOD:PUBLISH
X-PUBLISHED-TTL:P3D
REFRESH-INTERVAL:P3D
CALSCALE:GREGORIAN
BEGIN:VEVENT
DTSTART;VALUE=DATE:20171205
DTEND;VALUE=DATE:20171206
TRANSP:TRANSPARENT
X-MICROSOFT-CDO-ALLDAYEVENT:TRUE
SUMMARY:Safety & HR Day - December 5\, 2017
DESCRIPTION:Open to all CRMCA members - great for Plant Managers\, Operators\, Dispatchers\, Production Managers and Safety & HR Staff.  Join us from 10am - 3pm for need to know info including:\n\n \n\n\n	  OSHA Top 10 Safety Violations & Silica Updates\n	Roadside Inspections & Updates Affecting Your Drivers & Fleets\n	Leadership\, Culture &   Effective Coaching in the Field - presented by Bob McCall who received rave reviews at this year's Fall Workshop\n	 NEW for 2017: Industry Roundtable - Don't miss the opportunity to engage with industry professionals in your field.  Topics will vary\, and the session will be fast paced!  Participants will leave with key takeaways and action items. \n\n	 \n\n\nSpace is limited to 40 participants - don't delay in signing up today!
X-ALT-DESC;FMTTYPE=text/html:<p><span style="font-family:tahoma\,sans-serif\;">Open to all&nbsp\;CRMCA&nbsp\;members - great for Plant Managers\, Operators\, Dispatchers\, Production Managers and Safety &amp\; HR Staff. &nbsp\;Join us from&nbsp\;10am&nbsp\;-&nbsp\;3pm&nbsp\;for need to know info including:</span><br />\n&nbsp\;</p>\n\n<ul>\n	<li><strong><span style="font-family:tahoma\,sans-serif\;">&#8203\;&#8203\;OSHA Top 10 Safety Violations &amp\; Silica Updates</span></strong></li>\n	<li><strong><span style="font-family:tahoma\,sans-serif\;">Roadside Inspections &amp\; Updates Affecting Your Drivers &amp\; Fleets</span></strong></li>\n	<li><span style="font-family:tahoma\,sans-serif\;"><strong>Leadership\, Culture &amp\; &#8203\;&#8203\;Effective Coaching&nbsp\;in the Field</strong> - <em>presented by Bob McCall who received rave reviews at this year&#39\;s Fall Workshop</em></span></li>\n	<li><span style="font-family:tahoma\,sans-serif\;">&#8203\;<strong>NEW for 2017: Industry Roundtable</strong> -&nbsp\;Don&#39\;t miss the opportunity to engage with industry professionals in your field.&nbsp\; Topics will vary\, and the session will be fast paced!&nbsp\; Participants will leave with key takeaways and action items.&nbsp\;</span><br />\n	&nbsp\;</li>\n</ul>\n\n<p><span style="font-family:tahoma\,sans-serif\;">Space is limited to 40 participants - don&#39\;t delay in signing up today!</span><br />\n<br />\n&nbsp\;</p>\n
LOCATION:CRMCA Office 1805 J.N. Pease Place Charlotte\, NC 28262
UID:e.9366.92
SEQUENCE:3
DTSTAMP:20260420T054306Z
URL:http://crmcanc.memberzone.com/events/details/safety-hr-day-december-5-2017-92
END:VEVENT

END:VCALENDAR
