BEGIN:VCALENDAR
VERSION:2.0
PRODID:-//ChamberMaster//Event Calendar 2.0//EN
METHOD:PUBLISH
X-PUBLISHED-TTL:P3D
REFRESH-INTERVAL:P3D
CALSCALE:GREGORIAN
BEGIN:VEVENT
DTSTART:20160823T173000Z
DTEND:20160823T190000Z
X-MICROSOFT-CDO-ALLDAYEVENT:FALSE
SUMMARY:SC Legislative Committee Meeting
DESCRIPTION:SC Legislative Committee Meeting
X-ALT-DESC;FMTTYPE=text/html:SC Legislative Committee Meeting
LOCATION:The SEFA Group\, Inc. 217 Cedar Road Lexington\, SC 29073
UID:e.9366.23
SEQUENCE:3
DTSTAMP:20260421T093659Z
URL:http://crmcanc.memberzone.com/events/details/sc-legislative-committee-meeting-08-23-2016-23
END:VEVENT

END:VCALENDAR
