BEGIN:VCALENDAR
VERSION:2.0
PRODID:-//ChamberMaster//Event Calendar 2.0//EN
METHOD:PUBLISH
X-PUBLISHED-TTL:P3D
REFRESH-INTERVAL:P3D
CALSCALE:GREGORIAN
BEGIN:VEVENT
DTSTART:20160816T153000Z
DTEND:20160816T170000Z
X-MICROSOFT-CDO-ALLDAYEVENT:FALSE
SUMMARY:Western Carolina Chapter CEC
DESCRIPTION:Join us for lunch\, networking and a brief program.
X-ALT-DESC;FMTTYPE=text/html:Join us for lunch\, networking and a brief program.
LOCATION:Countryside BBQ 2070 Rutherford Road Marion\, NC
UID:e.9366.14
SEQUENCE:3
DTSTAMP:20260421T111639Z
URL:http://crmcanc.memberzone.com/events/details/western-carolina-chapter-cec-08-16-2016-14
END:VEVENT

END:VCALENDAR
