BEGIN:VCALENDAR
VERSION:2.0
PRODID:-//ChamberMaster//Event Calendar 2.0//EN
METHOD:PUBLISH
X-PUBLISHED-TTL:P3D
REFRESH-INTERVAL:P3D
CALSCALE:GREGORIAN
BEGIN:VEVENT
DTSTART:20170221T163000Z
DTEND:20170221T180000Z
X-MICROSOFT-CDO-ALLDAYEVENT:FALSE
SUMMARY:Western Carolina Chapter CEC - February 2017
DESCRIPTION:Join us for lunch\, networking and a brief program.The program will be:\nSafety\, Hours of Service\, Inspections\n\nPresented by a State Trooper\n\nNC Department of Public Safety\n\nState Highway Patrol
X-ALT-DESC;FMTTYPE=text/html:Join us for lunch\, networking and a brief program.The program will be:\n<div style="text-align: center\;"><span style="font-size:18px\;">Safety\, Hours of Service\, Inspections<br />\nPresented by a State Trooper<br />\nNC Department of Public Safety<br />\nState Highway Patrol</span></div>\n
LOCATION:Countryside BBQ 2070 Rutherford Road Marion\, NC
UID:e.9366.44
SEQUENCE:3
DTSTAMP:20260421T003625Z
URL:http://crmcanc.memberzone.com/events/details/western-carolina-chapter-cec-february-2017-44
END:VEVENT

END:VCALENDAR
